BEGIN:VCALENDAR
VERSION:2.0
PRODID:-//www.smokyhillmuseum.org//NONSGML kigkonsult.se iCalcreator 2.30.1
 0//
CALSCALE:GREGORIAN
METHOD:PUBLISH
UID:4e511dde-01a1-4300-98b9-399b50a8bff7
X-WR-CALDESC:The annual Poinsettia Sale is a major fundraiser to support th
 e Museum's mission\, programs\, exhibits\, and collections.
X-WR-RELCALID:e1ff2523598d645cb12f9b9950c7bb8f
X-WR-TIMEZONE:America/Chicago
BEGIN:VTIMEZONE
TZID:America/Chicago
BEGIN:STANDARD
TZNAME:CST
DTSTART:20301103T020000
TZOFFSETFROM:-0500
TZOFFSETTO:-0600
RDATE:20311102T020000
RDATE:20321107T020000
END:STANDARD
BEGIN:DAYLIGHT
TZNAME:CDT
DTSTART:20310309T020000
TZOFFSETFROM:-0600
TZOFFSETTO:-0500
RDATE:20320314T020000
RDATE:20330313T020000
END:DAYLIGHT
END:VTIMEZONE
BEGIN:VEVENT
UID:7aa44f27-0325-41aa-b56f-166283e61496
DTSTAMP:20260424T162532Z
DESCRIPTION:The annual Poinsettia Sale is a major fundraiser to support the
  Museum's mission\, programs\, exhibits\, and collections.
DTSTART;TZID=America/Chicago:20311015T050000
DTEND;TZID=America/Chicago:20311115T050001
LOCATION:211 W Iron Ave\, Salina\, KS 67401 US
SUMMARY:Poinsettia Sale Fundraiser
END:VEVENT
END:VCALENDAR
