BEGIN:VCALENDAR
VERSION:2.0
PRODID:-//www.smokyhillmuseum.org//NONSGML kigkonsult.se iCalcreator 2.30.1
 0//
CALSCALE:GREGORIAN
METHOD:PUBLISH
UID:c2de12ea-b5b8-4def-8c58-fc64ac3cb45d
X-WR-CALDESC:Registration Required\n\nHike Salina’s most rugged natural are
 a as we investigate the forces that shaped this park. Its natural beauty m
 asks the many drastic changes the land itself has experienced. We’ll unear
 th a rich history that includes American Indian grounds\, industries\, and
  recreation. We’ll also discover how the Smoky Hill River was moved\, cutt
 ing the park in half. (Hike will take us on very uneven ground throughout 
 Indian Rock Park\, including rocks\, woods\, and prairie.) \n\n* Not recom
 mended for those with mobility or balance issues. A talk presenting this i
 nformation will be given at a later date\, allowing those unable to hike t
 he opportunity to discover this area’s history.\n\nMaximum: 30 participant
 s.
X-WR-RELCALID:80c90bcdaf14711026a5a39d71955225
X-WR-TIMEZONE:America/Chicago
BEGIN:VTIMEZONE
TZID:America/Chicago
BEGIN:STANDARD
TZNAME:CST
DTSTART:20251102T020000
TZOFFSETFROM:-0500
TZOFFSETTO:-0600
RDATE:20261101T020000
RDATE:20271107T020000
END:STANDARD
BEGIN:DAYLIGHT
TZNAME:CDT
DTSTART:20260308T020000
TZOFFSETFROM:-0600
TZOFFSETTO:-0500
RDATE:20270314T020000
END:DAYLIGHT
END:VTIMEZONE
BEGIN:VEVENT
UID:7768704f-9093-4659-8fc2-0d956cce4318
DTSTAMP:20260425T113311Z
DESCRIPTION:Registration Required\n\nHike Salina’s most rugged natural area
  as we investigate the forces that shaped this park. Its natural beauty ma
 sks the many drastic changes the land itself has experienced. We’ll uneart
 h a rich history that includes American Indian grounds\, industries\, and 
 recreation. We’ll also discover how the Smoky Hill River was moved\, cutti
 ng the park in half. (Hike will take us on very uneven ground throughout I
 ndian Rock Park\, including rocks\, woods\, and prairie.) \n\n* Not recomm
 ended for those with mobility or balance issues. A talk presenting this in
 formation will be given at a later date\, allowing those unable to hike th
 e opportunity to discover this area’s history.\n\nMaximum: 30 participants
 .
DTSTART;TZID=America/Chicago:20260627T090000
DTEND;TZID=America/Chicago:20260627T104500
LOCATION:In front of 118 E. Iron Avenue\, southeast corner of Iron and 5th 
 St.\, 118 E Iron Avenue\, Salina\, KS 67401 US
SUMMARY:Indian Rock Park: Battles\, Bricks\, and Beauty*
END:VEVENT
END:VCALENDAR
