BEGIN:VCALENDAR
VERSION:2.0
PRODID:-//www.smokyhillmuseum.org//NONSGML kigkonsult.se iCalcreator 2.30.1
 0//
CALSCALE:GREGORIAN
METHOD:PUBLISH
UID:de53e4b1-de73-4167-a1c7-deac12efbfee
X-WR-CALDESC:
X-WR-RELCALID:aba4cd965a4a8049918a6a0bafe760ea
X-WR-TIMEZONE:America/Chicago
BEGIN:VTIMEZONE
TZID:America/Chicago
BEGIN:STANDARD
TZNAME:CST
DTSTART:20251102T020000
TZOFFSETFROM:-0500
TZOFFSETTO:-0600
RDATE:20261101T020000
RDATE:20271107T020000
END:STANDARD
BEGIN:DAYLIGHT
TZNAME:CDT
DTSTART:20260308T020000
TZOFFSETFROM:-0600
TZOFFSETTO:-0500
RDATE:20270314T020000
END:DAYLIGHT
END:VTIMEZONE
BEGIN:VEVENT
UID:d9f2e508-171f-43fe-8b40-e2a1d05f306a
DTSTAMP:20260420T103331Z
DESCRIPTION:
DTSTART;TZID=America/Chicago:20260619T050000
DTEND;TZID=America/Chicago:20260619T050001
LOCATION:211 W Iron Ave\, Salina\, KS 67401 US
SUMMARY:Museum Closed
END:VEVENT
END:VCALENDAR
