BEGIN:VCALENDAR
VERSION:2.0
PRODID:-//www.smokyhillmuseum.org//NONSGML kigkonsult.se iCalcreator 2.30.1
 0//
CALSCALE:GREGORIAN
METHOD:PUBLISH
UID:55e9f9ae-a57d-49ef-bf36-bc95c09d1b17
X-WR-CALDESC:This intriguing exhibit explores how Kansas found itself a hot
 bed of political turmoil and a foreshadowing of the coming Civil War.\n\nT
 hanks to our generous sponsors:\nCary Brinegar\nDean & Debra Lewis
X-WR-RELCALID:c8cc62a60645796380a009fe916e31d1
X-WR-TIMEZONE:America/Chicago
BEGIN:VTIMEZONE
TZID:America/Chicago
BEGIN:STANDARD
TZNAME:CST
DTSTART:20241103T020000
TZOFFSETFROM:-0500
TZOFFSETTO:-0600
RDATE:20251102T020000
RDATE:20261101T020000
END:STANDARD
BEGIN:DAYLIGHT
TZNAME:CDT
DTSTART:20250309T020000
TZOFFSETFROM:-0600
TZOFFSETTO:-0500
RDATE:20260308T020000
END:DAYLIGHT
END:VTIMEZONE
BEGIN:VEVENT
UID:9b40c324-bab2-487e-83a5-fac638d930fc
DTSTAMP:20260419T130739Z
DESCRIPTION:This intriguing exhibit explores how Kansas found itself a hotb
 ed of political turmoil and a foreshadowing of the coming Civil War.\n\nTh
 anks to our generous sponsors:\nCary Brinegar\nDean & Debra Lewis
DTSTART;TZID=America/Chicago:20250820T110000
DTEND;TZID=America/Chicago:20250820T170000
LOCATION:211 Iron Ave\, Salina\, KS 67401 US
SUMMARY:Kansas: Battleground for Freedom
END:VEVENT
END:VCALENDAR
